BEGIN:VCALENDAR
VERSION:2.0
PRODID:-//Glops d&#039;Història - ECPv6.15.12.2//NONSGML v1.0//EN
CALSCALE:GREGORIAN
METHOD:PUBLISH
X-WR-CALNAME:Glops d&#039;Història
X-ORIGINAL-URL:https://glopsdhistoria.com
X-WR-CALDESC:Esdeveniments per Glops d&#039;Història
REFRESH-INTERVAL;VALUE=DURATION:PT1H
X-Robots-Tag:noindex
X-PUBLISHED-TTL:PT1H
BEGIN:VTIMEZONE
TZID:Europe/Madrid
BEGIN:DAYLIGHT
TZOFFSETFROM:+0100
TZOFFSETTO:+0200
TZNAME:CEST
DTSTART:20240331T010000
END:DAYLIGHT
BEGIN:STANDARD
TZOFFSETFROM:+0200
TZOFFSETTO:+0100
TZNAME:CET
DTSTART:20241027T010000
END:STANDARD
BEGIN:DAYLIGHT
TZOFFSETFROM:+0100
TZOFFSETTO:+0200
TZNAME:CEST
DTSTART:20250330T010000
END:DAYLIGHT
BEGIN:STANDARD
TZOFFSETFROM:+0200
TZOFFSETTO:+0100
TZNAME:CET
DTSTART:20251026T010000
END:STANDARD
BEGIN:DAYLIGHT
TZOFFSETFROM:+0100
TZOFFSETTO:+0200
TZNAME:CEST
DTSTART:20260329T010000
END:DAYLIGHT
BEGIN:STANDARD
TZOFFSETFROM:+0200
TZOFFSETTO:+0100
TZNAME:CET
DTSTART:20261025T010000
END:STANDARD
END:VTIMEZONE
BEGIN:VEVENT
DTSTART;TZID=Europe/Madrid:20250628T120000
DTEND;TZID=Europe/Madrid:20250628T133000
DTSTAMP:20260422T212239
CREATED:20250623T102101Z
LAST-MODIFIED:20250623T171456Z
UID:3636-1751112000-1751117400@glopsdhistoria.com
SUMMARY: 50 anys de DO: tast de vins per celebrar la història
DESCRIPTION: 50 anys de DO: tast de vins per celebrar la història – Mostra del vi de Figueres\nUn viatge per la història de la DO Empordà a través de vins que han deixat empremta.\nTastarem ampolles que expliquen moments clau d’aquest mig segle de trajectòria vitivinícola.\nCelebrem plegats 50 anys de “VI-da”!\n\nLloc: Cercle Sport Figuerenc \nDia: Dissabte 28 de juny \nHora: 12:00 h \nPreu: 20€ \nPlaces limitades \nVenda d’entrades a www.doemporda.cat
URL:https://glopsdhistoria.com/activitat/50-anys-de-do-tast-de-vins-per-celebrar-la-historia-2/
LOCATION:Cercle Sport Figuerenc\, Carrer Monturiol\, 3\, Figueres\, 17600\, Spain
ATTACH;FMTTYPE=image/jpeg:https://glopsdhistoria.com/wp-content/uploads/2025/06/PHOTO-2025-04-01-17-22-42-1-e1750673978656.jpg
ORGANIZER;CN="Denominacio d'Origen Emporda":MAILTO:info@doemporda.cat
END:VEVENT
END:VCALENDAR