BEGIN:VCALENDAR
VERSION:2.0
PRODID:-//Glops d&#039;Història - ECPv6.15.12.2//NONSGML v1.0//EN
CALSCALE:GREGORIAN
METHOD:PUBLISH
X-WR-CALNAME:Glops d&#039;Història
X-ORIGINAL-URL:https://glopsdhistoria.com
X-WR-CALDESC:Esdeveniments per Glops d&#039;Història
REFRESH-INTERVAL;VALUE=DURATION:PT1H
X-Robots-Tag:noindex
X-PUBLISHED-TTL:PT1H
BEGIN:VTIMEZONE
TZID:Europe/Madrid
BEGIN:DAYLIGHT
TZOFFSETFROM:+0100
TZOFFSETTO:+0200
TZNAME:CEST
DTSTART:20230326T010000
END:DAYLIGHT
BEGIN:STANDARD
TZOFFSETFROM:+0200
TZOFFSETTO:+0100
TZNAME:CET
DTSTART:20231029T010000
END:STANDARD
BEGIN:DAYLIGHT
TZOFFSETFROM:+0100
TZOFFSETTO:+0200
TZNAME:CEST
DTSTART:20240331T010000
END:DAYLIGHT
BEGIN:STANDARD
TZOFFSETFROM:+0200
TZOFFSETTO:+0100
TZNAME:CET
DTSTART:20241027T010000
END:STANDARD
BEGIN:DAYLIGHT
TZOFFSETFROM:+0100
TZOFFSETTO:+0200
TZNAME:CEST
DTSTART:20250330T010000
END:DAYLIGHT
BEGIN:STANDARD
TZOFFSETFROM:+0200
TZOFFSETTO:+0100
TZNAME:CET
DTSTART:20251026T010000
END:STANDARD
END:VTIMEZONE
BEGIN:VEVENT
DTSTART;TZID=Europe/Madrid:20241102T120000
DTEND;TZID=Europe/Madrid:20241102T133000
DTSTAMP:20260422T212747
CREATED:20241114T234912Z
LAST-MODIFIED:20241114T234912Z
UID:3466-1730548800-1730554200@glopsdhistoria.com
SUMMARY:De dones i vi: Tast històric a l’antic monestir femení del Collet de Sant Antoni.
DESCRIPTION:Sabíeu que a Calonge existeixen les restes d’un dels poquíssims monestirs femenins medievals de l’Empordà? Construït sobre les restes d’un importantíssim centre de producció d’àmfores romanes de vi!\nT’ho descobrim en una visita amb tast de vi en motiu de la festa del vi nou \n*PLACES LIMITADES \n12:00- 13:30h \n4’50€ \nEntrades a : https://reserves.calongeisantantoni.cat/reserva-online/de-dones-i-vi-tast-histograveric-a-lrsquoantic-monestir-femeni-del-collet-de-sant-antoni/ca
URL:https://glopsdhistoria.com/activitat/de-dones-i-vi-tast-historic-a-lantic-monestir-femeni-del-collet-de-sant-antoni/
LOCATION:Collet de Sant Antoni\, Carrer del Monestir\, 2 17251 Calonge\, Girona\, Girona\, Spain
ATTACH;FMTTYPE=image/jpeg:https://glopsdhistoria.com/wp-content/uploads/2024/11/110ac5f4-05e2-43d1-97c6-4d3ae8944ddf-2.jpg
END:VEVENT
END:VCALENDAR