BEGIN:VCALENDAR
VERSION:2.0
PRODID:-//Glops d&#039;Història - ECPv6.15.12.2//NONSGML v1.0//EN
CALSCALE:GREGORIAN
METHOD:PUBLISH
X-WR-CALNAME:Glops d&#039;Història
X-ORIGINAL-URL:https://glopsdhistoria.com
X-WR-CALDESC:Esdeveniments per Glops d&#039;Història
REFRESH-INTERVAL;VALUE=DURATION:PT1H
X-Robots-Tag:noindex
X-PUBLISHED-TTL:PT1H
BEGIN:VTIMEZONE
TZID:Europe/Madrid
BEGIN:DAYLIGHT
TZOFFSETFROM:+0100
TZOFFSETTO:+0200
TZNAME:CEST
DTSTART:20240331T010000
END:DAYLIGHT
BEGIN:STANDARD
TZOFFSETFROM:+0200
TZOFFSETTO:+0100
TZNAME:CET
DTSTART:20241027T010000
END:STANDARD
BEGIN:DAYLIGHT
TZOFFSETFROM:+0100
TZOFFSETTO:+0200
TZNAME:CEST
DTSTART:20250330T010000
END:DAYLIGHT
BEGIN:STANDARD
TZOFFSETFROM:+0200
TZOFFSETTO:+0100
TZNAME:CET
DTSTART:20251026T010000
END:STANDARD
BEGIN:DAYLIGHT
TZOFFSETFROM:+0100
TZOFFSETTO:+0200
TZNAME:CEST
DTSTART:20260329T010000
END:DAYLIGHT
BEGIN:STANDARD
TZOFFSETFROM:+0200
TZOFFSETTO:+0100
TZNAME:CET
DTSTART:20261025T010000
END:STANDARD
END:VTIMEZONE
BEGIN:VEVENT
DTSTART;TZID=Europe/Madrid:20251107T190000
DTEND;TZID=Europe/Madrid:20251107T203000
DTSTAMP:20260422T194657
CREATED:20251027T190840Z
LAST-MODIFIED:20251027T191036Z
UID:3751-1762542000-1762547400@glopsdhistoria.com
SUMMARY:Obrir el vi: un ritual amb mil·lenis d’història
DESCRIPTION:L’EMBUTADA  -9ena edició –  Festa del Vi Novell de Tarragona-\nObrir el vi: un ritual amb mil·lenis d’història\nConferència amb tast amb Celler Dues Voltes\nCada tardor\, el primer vi de l’any anuncia una nova collita i obre un cicle. Aquesta xerrada explora com el vi novell ha generat\, al llarg de la història\, rituals col·lectius d’obertura i festa. Des de les libacions a Dionís fins als cellers catalans que pengen la branca de pi\, passant per les Antestèries gregues i el Beaujolais Nouveau\, ens endinsarem en una història líquida que uneix Deus antics\, pagesos medievals i sommeliers contemporanis. \nHora: 19.00 h \nLLoc: Antic Ajuntament de Tarragona \nNo cal inscripció – activitat gratuita fins a esgotar aforament- \nOrgantiza: Santa teca
URL:https://glopsdhistoria.com/activitat/obrir-el-vi-un-ritual-amb-millenis-dhistoria/
ATTACH;FMTTYPE=image/jpeg:https://glopsdhistoria.com/wp-content/uploads/2025/10/Llibret_Lembutada_25_page-0001-1-e1761591947689.jpg
END:VEVENT
END:VCALENDAR