BEGIN:VCALENDAR
VERSION:2.0
PRODID:-//Glops d&#039;Història - ECPv6.15.12.2//NONSGML v1.0//EN
CALSCALE:GREGORIAN
METHOD:PUBLISH
X-WR-CALNAME:Glops d&#039;Història
X-ORIGINAL-URL:https://glopsdhistoria.com
X-WR-CALDESC:Esdeveniments per Glops d&#039;Història
REFRESH-INTERVAL;VALUE=DURATION:PT1H
X-Robots-Tag:noindex
X-PUBLISHED-TTL:PT1H
BEGIN:VTIMEZONE
TZID:Europe/Madrid
BEGIN:DAYLIGHT
TZOFFSETFROM:+0100
TZOFFSETTO:+0200
TZNAME:CEST
DTSTART:20230326T010000
END:DAYLIGHT
BEGIN:STANDARD
TZOFFSETFROM:+0200
TZOFFSETTO:+0100
TZNAME:CET
DTSTART:20231029T010000
END:STANDARD
BEGIN:DAYLIGHT
TZOFFSETFROM:+0100
TZOFFSETTO:+0200
TZNAME:CEST
DTSTART:20240331T010000
END:DAYLIGHT
BEGIN:STANDARD
TZOFFSETFROM:+0200
TZOFFSETTO:+0100
TZNAME:CET
DTSTART:20241027T010000
END:STANDARD
BEGIN:DAYLIGHT
TZOFFSETFROM:+0100
TZOFFSETTO:+0200
TZNAME:CEST
DTSTART:20250330T010000
END:DAYLIGHT
BEGIN:STANDARD
TZOFFSETFROM:+0200
TZOFFSETTO:+0100
TZNAME:CET
DTSTART:20251026T010000
END:STANDARD
END:VTIMEZONE
BEGIN:VEVENT
DTSTART;TZID=Europe/Madrid:20240815T190000
DTEND;TZID=Europe/Madrid:20240815T210000
DTSTAMP:20260422T225914
CREATED:20240716T102825Z
LAST-MODIFIED:20240717T081126Z
UID:10000119-1723748400-1723755600@glopsdhistoria.com
SUMMARY:Una mar de vins
DESCRIPTION:Embarca’t amb Glops d’història i Mare Nostrum per tastar la connexió ancestral entre els vins i el mar. \nA bord tastarem vins fets d’antigues varietats mediterrànies. Aprendrem que fins fa pocs anys els pescadors de l’Escala eren tots vinyaters i brindarem a la posta de sol davant el jaciment de les ruïnes d’Empúries. \nHistòries de vinya i de mar els dijous al capvespre amb sortida des del port de l’Escala. \nMolt poques dates i aforament limitat \n8 i 15 d’agost – 19.00h \nL’activitat inlou: \n\n2 hores de navegació\nTast de 3 vins sel·leccionats de la DO Empordà\nGuiatge i tast comentat per part de Romina Ribera\, arqueòloga especialista en vins\n\n  \nPreu 35€ / persona\nLloc: Sortides des del Port de l’Escala \nReserves\nCreuers Mare Nostrum: https://creuers-marenostrum.com/es/excursiones-y-reserva/un-mar-de-vinos.html\ntelèfon 972 77 37 97
URL:https://glopsdhistoria.com/activitat/una-mar-de-vins/2024-08-15/
LOCATION:Passeig Marítim Colera\, Passeig Marítim\, 17496 Colera\, Girona\, Colera\, Girona\, 17496\, Espanya
ATTACH;FMTTYPE=image/webp:https://glopsdhistoria.com/wp-content/uploads/2024/06/cap-calendari.webp
END:VEVENT
END:VCALENDAR