BEGIN:VCALENDAR
VERSION:2.0
PRODID:-//Glops d&#039;Història - ECPv6.15.12.2//NONSGML v1.0//EN
CALSCALE:GREGORIAN
METHOD:PUBLISH
X-WR-CALNAME:Glops d&#039;Història
X-ORIGINAL-URL:https://glopsdhistoria.com
X-WR-CALDESC:Esdeveniments per Glops d&#039;Història
REFRESH-INTERVAL;VALUE=DURATION:PT1H
X-Robots-Tag:noindex
X-PUBLISHED-TTL:PT1H
BEGIN:VTIMEZONE
TZID:Europe/Madrid
BEGIN:DAYLIGHT
TZOFFSETFROM:+0100
TZOFFSETTO:+0200
TZNAME:CEST
DTSTART:20230326T010000
END:DAYLIGHT
BEGIN:STANDARD
TZOFFSETFROM:+0200
TZOFFSETTO:+0100
TZNAME:CET
DTSTART:20231029T010000
END:STANDARD
BEGIN:DAYLIGHT
TZOFFSETFROM:+0100
TZOFFSETTO:+0200
TZNAME:CEST
DTSTART:20240331T010000
END:DAYLIGHT
BEGIN:STANDARD
TZOFFSETFROM:+0200
TZOFFSETTO:+0100
TZNAME:CET
DTSTART:20241027T010000
END:STANDARD
BEGIN:DAYLIGHT
TZOFFSETFROM:+0100
TZOFFSETTO:+0200
TZNAME:CEST
DTSTART:20250330T010000
END:DAYLIGHT
BEGIN:STANDARD
TZOFFSETFROM:+0200
TZOFFSETTO:+0100
TZNAME:CET
DTSTART:20251026T010000
END:STANDARD
END:VTIMEZONE
BEGIN:VEVENT
DTSTART;TZID=Europe/Madrid:20241123T120000
DTEND;TZID=Europe/Madrid:20241123T133000
DTSTAMP:20260422T213008
CREATED:20241114T155412Z
LAST-MODIFIED:20241114T161023Z
UID:3456-1732363200-1732368600@glopsdhistoria.com
SUMMARY:Vi i Monestirs al Priorat de Masarac
DESCRIPTION:ENTRADES EXHAURIDES \nL’Empordà és un territori ric en vins i monestirs\, i aquest fet no és cap coincidència. De ben antic\, les terres empordaneses van acollir multitud de monestirs i priorats\, que\, durant segles\, van escampar el cultiu de la vinya i van perfeccionar l’art de transformar el most en vi. \nAvui en dia\, moltes de les vinyes de la Denominació d’Origen Empordà s’estenen pels antics dominis monàstics\, i el vi que neix d’aquesta terra és fruit de l’herència dels grans monestirs que antigament van poblar valls i muntanyes empordaneses. \nEl Consell Regulador de la Denominació d’Origen Empordà donarà a conèixer aquest llegat amb un cicle dedicat als vins i monestirs. Cada cap de setmana del mes de novembre s’organitzarà una visita en la qual es descobrirà el passat vinícola d’aquests monestirs tot fent un tast de vins. El conjunt monumental de Sant Pere de Rodes\, Sant Silvestre de Valleta\, el Priorat de Masarac i el monestir de Santa Maria del Mar de Calonge ens descobriran les arrels monàstiques dels vins empordanesos. \nActivitat coordinada i dirigida  per Clara Poch i Romina Ribera. \n\n\nLes propostes tenen lloc els dissabtes del mes de novembre. Totes les visites tindran lloc a partir de les 12 del migdia. El preu és de 20 €. Les places són molt limitades. \n\n23 de novembre\nPriorat de Masarac amb Clara Poch
URL:https://glopsdhistoria.com/activitat/vi-i-monestirs-al-priorat-de-masarac/
ATTACH;FMTTYPE=image/jpeg:https://glopsdhistoria.com/wp-content/uploads/2024/11/post-ViM24-Priorat-Masarac-e1731599587851.jpg
ORGANIZER;CN="Denominacio d'Origen Emporda":MAILTO:info@doemporda.cat
END:VEVENT
END:VCALENDAR