BEGIN:VCALENDAR
VERSION:2.0
PRODID:-//Glops d&#039;Història - ECPv6.15.12.2//NONSGML v1.0//EN
CALSCALE:GREGORIAN
METHOD:PUBLISH
X-WR-CALNAME:Glops d&#039;Història
X-ORIGINAL-URL:https://glopsdhistoria.com
X-WR-CALDESC:Esdeveniments per Glops d&#039;Història
REFRESH-INTERVAL;VALUE=DURATION:PT1H
X-Robots-Tag:noindex
X-PUBLISHED-TTL:PT1H
BEGIN:VTIMEZONE
TZID:Europe/Madrid
BEGIN:DAYLIGHT
TZOFFSETFROM:+0100
TZOFFSETTO:+0200
TZNAME:CEST
DTSTART:20230326T010000
END:DAYLIGHT
BEGIN:STANDARD
TZOFFSETFROM:+0200
TZOFFSETTO:+0100
TZNAME:CET
DTSTART:20231029T010000
END:STANDARD
BEGIN:DAYLIGHT
TZOFFSETFROM:+0100
TZOFFSETTO:+0200
TZNAME:CEST
DTSTART:20240331T010000
END:DAYLIGHT
BEGIN:STANDARD
TZOFFSETFROM:+0200
TZOFFSETTO:+0100
TZNAME:CET
DTSTART:20241027T010000
END:STANDARD
BEGIN:DAYLIGHT
TZOFFSETFROM:+0100
TZOFFSETTO:+0200
TZNAME:CEST
DTSTART:20250330T010000
END:DAYLIGHT
BEGIN:STANDARD
TZOFFSETFROM:+0200
TZOFFSETTO:+0100
TZNAME:CET
DTSTART:20251026T010000
END:STANDARD
END:VTIMEZONE
BEGIN:VEVENT
DTSTART;TZID=Europe/Madrid:20240913T183000
DTEND;TZID=Europe/Madrid:20240913T200000
DTSTAMP:20260426T001932
CREATED:20240716T101633Z
LAST-MODIFIED:20240916T080313Z
UID:10000124-1726252200-1726257600@glopsdhistoria.com
SUMMARY:Bibendum. Capvespres de vi a Empúries
DESCRIPTION:Aquest any amb un itinerari i un relat nou. Gaudirem del privilegi de trepitjar espais tancats al públic\, imatges inèdites del jaciment i textos antics que ens parlaran de qui érem\, qui som i d’on venim a través del vi. \nCom sempre al capvespre\, amb tres vins DO Empordà com a fil conductor i el Jaciment de les Ruïnes d’Empúries tancat per nosaltres. \nEmpordà Caterva \, especialistes en visites dinamitzades\, Glops d’història i el MAC Empúries s’uneixen de nou per oferir-vos una de les grans activitats d’aquest estiu. \n  \n*Durada aproximada de l’activitat 1.30 hores\n*Aquesta activitat s’adreça al públic adult\, el contingut no està adaptat específicament per als menors.\n*L’organització pot suspendre alguna de les activitats programades en cas de mal temps \nPreu: 25 €\nCompra entrades: https://macempuries.koobin.cat/index.php?action=PU_evento&Ev_id=121 \nLLOC: https://maps.app.goo.gl/Dz8LjwUzbfEKodMq7
URL:https://glopsdhistoria.com/activitat/bibendum-capvespres-de-vi-a-empuries/2024-09-13/
LOCATION:MAC Empuries\, Carrer Museu\, 27\, L'Escala\, Girona\, 17130\, Espanya
ATTACH;FMTTYPE=image/jpeg:https://glopsdhistoria.com/wp-content/uploads/2024/07/Empuries-3-scaled.jpg
END:VEVENT
BEGIN:VEVENT
DTSTART;TZID=Europe/Madrid:20240914T090000
DTEND;TZID=Europe/Madrid:20240914T140000
DTSTAMP:20260426T001932
CREATED:20240827T162225Z
LAST-MODIFIED:20240829T153704Z
UID:10000120-1726304400-1726322400@glopsdhistoria.com
SUMMARY:Vinya\, guerra i terra
DESCRIPTION:Vinya\, guerra i terra: tast en ruta entre Colera i Portbou\namb Celler Hugas de Batlle\n  \nEl Celler Hugas de Batlle\, Glops d’Història i el Club excursionista de Portbou s’uneixen per proposar-vos un itinerari històric. Una sortida a peu amb tast de vi per descobrir vinyes\, búnquers i quilòmetres de murs de pedra seca amagats entre Colera i Portbou. \nComençant des del mar\, pujarem resseguint part del GR92 i del camí de ronda acompanyats de les vistes del Cap de Creus. Al llarg del camí tastarem de la mà de la Romina Ribera\, arqueòloga i sommelier de Glops d’història\, 5 vins seleccionats del Celler Hugas de Batlle. \nAcabarem la ruta a la vinya de La Pineda amb un esmorzar  a base de pa amb tomata i embotits de la zona. \nLa ruta de 8 km és circular i de dificultat mitja\, amb un desnivell de 220 metres. \nS’ha de venir equipat amb calçat còmode i roba adequada segons previsió meteorològica (paravents\, crema solar\, gorra i aigua) \n  \nData: dissabte 14 de setembre \nHorari: de 9.00 a 14.00 \nPreu 35€ / persona . Menors d’edat 15€\nPunt de trobada: Passeig marítim de Colera \nL’activitat inlou: \n\nL’assegurança pertinent\nTast de 5 vins sel·leccionats del celler\nEsmorzar de pà amb tomàquet i embotit\nGuiatge i tast comentat per part de Romina Ribera\, arqueòloga i sommelier\n\n  \n* Places limitades \n*En cas de pluja l’activitat queda suspesa i es retornarà l’import íntegrament. \n* La ruta no és complicada però el primer tram presenta un desnivell considerable. Cal estar en bona forma física. \n  \nReserves\nCeller Hugas de Batlle:  cellerhugasdebatlle.cat\ntelèfon +34 972 389 149
URL:https://glopsdhistoria.com/activitat/vinya-guerra-i-terra-un-tast-en-ruta-amb-celler-hugas-de-batlle/
LOCATION:Passeig Marítim Colera\, Passeig Marítim\, 17496 Colera\, Girona\, Colera\, Girona\, 17496\, Espanya
ATTACH;FMTTYPE=image/jpeg:https://glopsdhistoria.com/wp-content/uploads/2024/08/IMG_8220-scaled-e1724776227536.jpg
END:VEVENT
BEGIN:VEVENT
DTSTART;TZID=Europe/Madrid:20240920T183000
DTEND;TZID=Europe/Madrid:20240920T200000
DTSTAMP:20260426T001932
CREATED:20240716T101633Z
LAST-MODIFIED:20240916T080313Z
UID:10000123-1726857000-1726862400@glopsdhistoria.com
SUMMARY:Bibendum. Capvespres de vi a Empúries
DESCRIPTION:Aquest any amb un itinerari i un relat nou. Gaudirem del privilegi de trepitjar espais tancats al públic\, imatges inèdites del jaciment i textos antics que ens parlaran de qui érem\, qui som i d’on venim a través del vi. \nCom sempre al capvespre\, amb tres vins DO Empordà com a fil conductor i el Jaciment de les Ruïnes d’Empúries tancat per nosaltres. \nEmpordà Caterva \, especialistes en visites dinamitzades\, Glops d’història i el MAC Empúries s’uneixen de nou per oferir-vos una de les grans activitats d’aquest estiu. \n  \n*Durada aproximada de l’activitat 1.30 hores\n*Aquesta activitat s’adreça al públic adult\, el contingut no està adaptat específicament per als menors.\n*L’organització pot suspendre alguna de les activitats programades en cas de mal temps \nPreu: 25 €\nCompra entrades: https://macempuries.koobin.cat/index.php?action=PU_evento&Ev_id=121 \nLLOC: https://maps.app.goo.gl/Dz8LjwUzbfEKodMq7
URL:https://glopsdhistoria.com/activitat/bibendum-capvespres-de-vi-a-empuries/2024-09-20/
LOCATION:MAC Empuries\, Carrer Museu\, 27\, L'Escala\, Girona\, 17130\, Espanya
ATTACH;FMTTYPE=image/jpeg:https://glopsdhistoria.com/wp-content/uploads/2024/07/Empuries-3-scaled.jpg
END:VEVENT
END:VCALENDAR