BEGIN:VCALENDAR
VERSION:2.0
PRODID:-//Glops d&#039;Història - ECPv6.15.12.2//NONSGML v1.0//EN
CALSCALE:GREGORIAN
METHOD:PUBLISH
X-WR-CALNAME:Glops d&#039;Història
X-ORIGINAL-URL:https://glopsdhistoria.com
X-WR-CALDESC:Esdeveniments per Glops d&#039;Història
REFRESH-INTERVAL;VALUE=DURATION:PT1H
X-Robots-Tag:noindex
X-PUBLISHED-TTL:PT1H
BEGIN:VTIMEZONE
TZID:Europe/Madrid
BEGIN:DAYLIGHT
TZOFFSETFROM:+0100
TZOFFSETTO:+0200
TZNAME:CEST
DTSTART:20240331T010000
END:DAYLIGHT
BEGIN:STANDARD
TZOFFSETFROM:+0200
TZOFFSETTO:+0100
TZNAME:CET
DTSTART:20241027T010000
END:STANDARD
BEGIN:DAYLIGHT
TZOFFSETFROM:+0100
TZOFFSETTO:+0200
TZNAME:CEST
DTSTART:20250330T010000
END:DAYLIGHT
BEGIN:STANDARD
TZOFFSETFROM:+0200
TZOFFSETTO:+0100
TZNAME:CET
DTSTART:20251026T010000
END:STANDARD
BEGIN:DAYLIGHT
TZOFFSETFROM:+0100
TZOFFSETTO:+0200
TZNAME:CEST
DTSTART:20260329T010000
END:DAYLIGHT
BEGIN:STANDARD
TZOFFSETFROM:+0200
TZOFFSETTO:+0100
TZNAME:CET
DTSTART:20261025T010000
END:STANDARD
END:VTIMEZONE
BEGIN:VEVENT
DTSTART;TZID=Europe/Madrid:20250611T183000
DTEND;TZID=Europe/Madrid:20250611T200000
DTSTAMP:20260423T115049
CREATED:20250606T095616Z
LAST-MODIFIED:20250606T095747Z
UID:10000214-1749666600-1749672000@glopsdhistoria.com
SUMMARY: 50 anys de DO: tast de vins per celebrar la història
DESCRIPTION: 50 anys de DO: tast de vins per celebrar la història\nUn viatge per la història de la DO Empordà a través de vins que han deixat empremta.\nTastarem ampolles que expliquen moments clau d’aquest mig segle de trajectòria vitivinícola.\nCelebrem plegats 50 anys de “VI-da”!\n\nLloc: El Modern. Centre audiovisual i digital. \nDia: Dimecres 11 de juny \nHora: 18’30h. \nPreu: 20€ \nPlaces limitades \nVenda d’entrades a www.doemporda.cat
URL:https://glopsdhistoria.com/activitat/50-anys-de-do-tast-de-vins-per-celebrar-la-historia/
LOCATION:Cine Modern\, Carrer Nou del Teatre\, 14-18\, Girona\, Girona\, 17004\, Spain
ATTACH;FMTTYPE=image/jpeg:https://glopsdhistoria.com/wp-content/uploads/2025/06/PHOTO-2025-04-01-17-22-42-1-e1750673978656.jpg
ORGANIZER;CN="Denominacio d'Origen Emporda":MAILTO:info@doemporda.cat
END:VEVENT
BEGIN:VEVENT
DTSTART;TZID=Europe/Madrid:20250613T180000
DTEND;TZID=Europe/Madrid:20250613T200000
DTSTAMP:20260423T115049
CREATED:20250606T101402Z
LAST-MODIFIED:20250606T101457Z
UID:10000215-1749837600-1749844800@glopsdhistoria.com
SUMMARY:Els vins de la Girona desconeguda: tast itinerant
DESCRIPTION:Els vins de la Girona desconeguda: tast itinerant\nTorna la Fira Tocs de Vi i\, com cada any\, hi participem amb una de les visites amb tast més emblemàtiques de Glops d’història.Descobreix Girona d’una manera única: un tast itinerant pel centre històric de la ciutat. Una activitat que combina patrimoni\, història i vi en un recorregut ple de sabors i memòria. \n📅 Dies: Divendres 13 i dissabte 14 de juny🕖 Horari: de 18.00 h a 20.00 h🎟️ Preu: 15 € · Places limitades📍 Punt de trobada: Plaça dels Apòstols (Catedral de Girona)🏁 Final del recorregut: Plaça de Sant Pere🔗 Venda d’entrades: DO Empordà
URL:https://glopsdhistoria.com/activitat/els-vins-de-la-girona-desconeguda-tast-itinerant/2025-06-13/
LOCATION:Girona
ATTACH;FMTTYPE=image/jpeg:https://glopsdhistoria.com/wp-content/uploads/2025/06/CPALACIOB-090923-023_Patronat-1.jpg
END:VEVENT
BEGIN:VEVENT
DTSTART;TZID=Europe/Madrid:20250614T180000
DTEND;TZID=Europe/Madrid:20250614T200000
DTSTAMP:20260423T115049
CREATED:20250606T101402Z
LAST-MODIFIED:20250606T101457Z
UID:10000216-1749924000-1749931200@glopsdhistoria.com
SUMMARY:Els vins de la Girona desconeguda: tast itinerant
DESCRIPTION:Els vins de la Girona desconeguda: tast itinerant\nTorna la Fira Tocs de Vi i\, com cada any\, hi participem amb una de les visites amb tast més emblemàtiques de Glops d’història.Descobreix Girona d’una manera única: un tast itinerant pel centre històric de la ciutat. Una activitat que combina patrimoni\, història i vi en un recorregut ple de sabors i memòria. \n📅 Dies: Divendres 13 i dissabte 14 de juny🕖 Horari: de 18.00 h a 20.00 h🎟️ Preu: 15 € · Places limitades📍 Punt de trobada: Plaça dels Apòstols (Catedral de Girona)🏁 Final del recorregut: Plaça de Sant Pere🔗 Venda d’entrades: DO Empordà
URL:https://glopsdhistoria.com/activitat/els-vins-de-la-girona-desconeguda-tast-itinerant/2025-06-14/
LOCATION:Girona
ATTACH;FMTTYPE=image/jpeg:https://glopsdhistoria.com/wp-content/uploads/2025/06/CPALACIOB-090923-023_Patronat-1.jpg
END:VEVENT
BEGIN:VEVENT
DTSTART;TZID=Europe/Madrid:20250626T190000
DTEND;TZID=Europe/Madrid:20250626T210000
DTSTAMP:20260423T115049
CREATED:20250604T162846Z
LAST-MODIFIED:20250705T115442Z
UID:10000191-1750964400-1750971600@glopsdhistoria.com
SUMMARY:Verema d’art: tasta la Catedral i el Museu d'art de Girona
DESCRIPTION:Verema d’art: un tast de vins per la Girona Episcopal – Catedral i Museu d’Art de Girona-\nAquest estiu\, la Catedral de Girona i el Museu d’Art us obren les portes al capvespre per oferir-vos una experiència única: un tast de vins a porta tancada\, fora de l’horari de visita. \nUna visita per descobrir dos dels espais més emblemàtics de la ciutat a través del fil conductor del vi. \nGuiats per l’arqueòloga i sommelier Romina Ribera (Glops d’Història)\, explorarem indrets carregats de significat —des del pati del Museu fins al claustre de la Catedral—\, travessant sales\, passadissos i accessos que habitualment no són oberts al públic. \nEls vins que tastarem\, escollits pel seu vincle amb la història i l’entorn\, ens ajudaran a interpretar el patrimoni amb una nova mirada. \nUna proposta intimista i plena de matisos per descobrir la Girona episcopal a la nit \, copa en  mà. \n🗓 Dijous 26 de Juny \, 10 i 24 de Juliol\,  7  d’Agost : 🕚 De 19.00h a 21h \n🗓 Dijous 21 d’agost i 4 de setembre : 🕚 De 18.30h a 19: 30h \n📍Museu d’Art de Girona \nL’entrada inclou: \n\nAccès a porta tancada a la Catedral i el Museu D’art\nGuia especialitzada\nEl tast guiat  de 3 vins únics fora de mercat escollits per l’ocasió\n\nPlaces molt limitades. Reserva prèvia imprescindible \n 
URL:https://glopsdhistoria.com/activitat/verema-dart/
LOCATION:Catedral de Girona\, Pujada de la Catedral\, 12\, Girona\, 17004\, Spain
ATTACH;FMTTYPE=image/jpeg:https://glopsdhistoria.com/wp-content/uploads/2025/06/CPALACIOB-090923-012_Patronat-1-e1749053512579.jpg
END:VEVENT
BEGIN:VEVENT
DTSTART;TZID=Europe/Madrid:20250628T120000
DTEND;TZID=Europe/Madrid:20250628T133000
DTSTAMP:20260423T115049
CREATED:20250623T102101Z
LAST-MODIFIED:20250623T171456Z
UID:10000218-1751112000-1751117400@glopsdhistoria.com
SUMMARY: 50 anys de DO: tast de vins per celebrar la història
DESCRIPTION: 50 anys de DO: tast de vins per celebrar la història – Mostra del vi de Figueres\nUn viatge per la història de la DO Empordà a través de vins que han deixat empremta.\nTastarem ampolles que expliquen moments clau d’aquest mig segle de trajectòria vitivinícola.\nCelebrem plegats 50 anys de “VI-da”!\n\nLloc: Cercle Sport Figuerenc \nDia: Dissabte 28 de juny \nHora: 12:00 h \nPreu: 20€ \nPlaces limitades \nVenda d’entrades a www.doemporda.cat
URL:https://glopsdhistoria.com/activitat/50-anys-de-do-tast-de-vins-per-celebrar-la-historia-2/
LOCATION:Cercle Sport Figuerenc\, Carrer Monturiol\, 3\, Figueres\, 17600\, Spain
ATTACH;FMTTYPE=image/jpeg:https://glopsdhistoria.com/wp-content/uploads/2025/06/PHOTO-2025-04-01-17-22-42-1-e1750673978656.jpg
ORGANIZER;CN="Denominacio d'Origen Emporda":MAILTO:info@doemporda.cat
END:VEVENT
END:VCALENDAR