BEGIN:VCALENDAR
VERSION:2.0
PRODID:-//Glops d&#039;Història - ECPv6.15.12.2//NONSGML v1.0//EN
CALSCALE:GREGORIAN
METHOD:PUBLISH
X-ORIGINAL-URL:https://glopsdhistoria.com
X-WR-CALDESC:Esdeveniments per Glops d&#039;Història
REFRESH-INTERVAL;VALUE=DURATION:PT1H
X-Robots-Tag:noindex
X-PUBLISHED-TTL:PT1H
BEGIN:VTIMEZONE
TZID:Europe/Madrid
BEGIN:DAYLIGHT
TZOFFSETFROM:+0100
TZOFFSETTO:+0200
TZNAME:CEST
DTSTART:20240331T010000
END:DAYLIGHT
BEGIN:STANDARD
TZOFFSETFROM:+0200
TZOFFSETTO:+0100
TZNAME:CET
DTSTART:20241027T010000
END:STANDARD
BEGIN:DAYLIGHT
TZOFFSETFROM:+0100
TZOFFSETTO:+0200
TZNAME:CEST
DTSTART:20250330T010000
END:DAYLIGHT
BEGIN:STANDARD
TZOFFSETFROM:+0200
TZOFFSETTO:+0100
TZNAME:CET
DTSTART:20251026T010000
END:STANDARD
BEGIN:DAYLIGHT
TZOFFSETFROM:+0100
TZOFFSETTO:+0200
TZNAME:CEST
DTSTART:20260329T010000
END:DAYLIGHT
BEGIN:STANDARD
TZOFFSETFROM:+0200
TZOFFSETTO:+0100
TZNAME:CET
DTSTART:20261025T010000
END:STANDARD
END:VTIMEZONE
BEGIN:VEVENT
DTSTART;TZID=Europe/Madrid:20250807T190000
DTEND;TZID=Europe/Madrid:20250807T210000
DTSTAMP:20260423T083318
CREATED:20250627T185446Z
LAST-MODIFIED:20250801T134627Z
UID:10000220-1754593200-1754600400@glopsdhistoria.com
SUMMARY:Verema d’art: tasta la Catedral i el Museu d'art de Girona
DESCRIPTION:ENTRADES ESGOTADES\nVerema d’art: un tast de vins per la Girona Episcopal – Catedral i Museu d’Art de Girona-\nAquest estiu\, la Catedral de Girona i el Museu d’Art us obren les portes al capvespre per oferir-vos una experiència única: un tast de vins a porta tancada\, fora de l’horari de visita. \nUna visita per descobrir dos dels espais més emblemàtics de la ciutat a través del fil conductor del vi. \nGuiats per l’arqueòloga i sommelier Romina Ribera (Glops d’Història)\, explorarem indrets carregats de significat —des del pati del Museu fins al claustre de la Catedral—\, travessant sales\, passadissos i accessos que habitualment no són oberts al públic. \nEls vins que tastarem\, escollits pel seu vincle amb la història i l’entorn\, ens ajudaran a interpretar el patrimoni amb una nova mirada. \nUna proposta intimista i plena de matisos per descobrir la Girona episcopal a la nit \, copa en  mà. \n🗓 Dijous 26 de Juny \, 10 i 24 de Juliol\,  7  d’Agost : 🕚 De 19.00h a 21h \n🗓 Dijous 21 d’agost i 4 de setembre : 🕚 De 18.30h a 19: 30h \n📍Museu d’Art de Girona \nL’entrada inclou: \n\nAccès a porta tancada a la Catedral i el Museu D’art\nGuia especialitzada\nEl tast guiat  de 3 vins únics fora de mercat escollits per l’ocasió\n\nPlaces molt limitades. Reserva prèvia imprescindible \n 
URL:https://glopsdhistoria.com/activitat/verema-dart-3/
LOCATION:Catedral de Girona\, Pujada de la Catedral\, 12\, Girona\, 17004\, Spain
ATTACH;FMTTYPE=image/jpeg:https://glopsdhistoria.com/wp-content/uploads/2025/06/CPALACIOB-090923-012_Patronat-1-e1749053512579.jpg
END:VEVENT
BEGIN:VEVENT
DTSTART;TZID=Europe/Madrid:20250813T200000
DTEND;TZID=Europe/Madrid:20250813T210000
DTSTAMP:20260423T083318
CREATED:20250801T194342Z
LAST-MODIFIED:20250811T100119Z
UID:10000235-1755115200-1755118800@glopsdhistoria.com
SUMMARY:Monges benedictines\, àmfores romanes i vi
DESCRIPTION:EMPORDÀ WINE AND FOOD FESTIVAL – Collet de Sant Antoni- \nSabíeu que a Calonge existeix un monestir benedictí d’origen medieval? I que es va construir sobre un important centre de producció d’àmfores romanes de vi? Ho descobrirem amb tast de 4 vins\, de la mà de Romina Ribera\, arqueòloga i sommelier\, de Glops dhistòria en el marc del festival WINE AND FOOD FESTIVAL  del collet de Sant Antoni de Calonge \n📍 Lloc: El Collet\, Calonge📅 Data: Dimecres 13 d’agost de 2025🕗 Hora d’inici: 20:00 h \n🎟️ Entrades disponibles aquí:👉 https://www.entrapolis.com/entrades/monges-benedictines-amfores-romanes-i-vi \n✨ Una proposta dins el festival més gastronòmic de l’estiu a l’Empordà! No t’ho perdis!
URL:https://glopsdhistoria.com/activitat/monges-benedictines-amfores-romanes-i-vi-2-2/
LOCATION:Collet de Sant Antoni\, Carrer del Monestir\, 2 17251 Calonge\, Girona\, Girona\, Spain
ATTACH;FMTTYPE=image/jpeg:https://glopsdhistoria.com/wp-content/uploads/2025/08/H2S5467-2-scaled-e1754057089900.jpg
END:VEVENT
BEGIN:VEVENT
DTSTART;TZID=Europe/Madrid:20250814T190000
DTEND;TZID=Europe/Madrid:20250814T210000
DTSTAMP:20260423T083318
CREATED:20250604T172125Z
LAST-MODIFIED:20250902T161653Z
UID:10000210-1755198000-1755205200@glopsdhistoria.com
SUMMARY:Una mar de vins
DESCRIPTION:Embarca’t amb Glops d’història i Mare Nostrum per tastar la connexió ancestral entre els vins i el mar. \nA bord tastarem vins fets d’antigues varietats mediterrànies. Aprendrem que fins fa pocs anys els pescadors de l’Escala eren tots vinyaters i brindarem a la posta de sol davant el jaciment de les ruïnes d’Empúries. \nHistòries de vinya i de mar els dijous al capvespre amb sortida des del port de l’Escala. \nMolt poques dates i aforament limitat \n14 d’agost – 19.00h \n28 d’agost – 18.30h \n11 de setembre 18.30h \nL’activitat inlou: \n\n2 hores de navegació\nTast de 3 vins sel·leccionats de la DO Empordà\nGuiatge i tast comentat per part de Romina Ribera\, arqueòloga especialista en vins\n\n  \nPreu 35€ / persona\nLloc: Sortides des del Port de l’Escala \nReserves\nCreuers Mare Nostrum: https://creuers-marenostrum.com/es/excursiones-y-reserva/un-mar-de-vinos.html\ntelèfon 972 77 37 97
URL:https://glopsdhistoria.com/activitat/una-mar-de-vins-2/2025-08-14/
LOCATION:Creuers Mare Nostrum\, Carrer port de la Clota\, s/n\, L'Escala\, Girona\, 17130
ATTACH;FMTTYPE=image/webp:https://glopsdhistoria.com/wp-content/uploads/2024/06/cap-calendari.webp
END:VEVENT
BEGIN:VEVENT
DTSTART;TZID=Europe/Madrid:20250815T200000
DTEND;TZID=Europe/Madrid:20250815T210000
DTSTAMP:20260423T083318
CREATED:20250801T194433Z
LAST-MODIFIED:20250811T095756Z
UID:10000234-1755288000-1755291600@glopsdhistoria.com
SUMMARY:Prohibides\, peludes i oblidades:  de dones i vins
DESCRIPTION:EMPORDÀ WINE AND FOOD FESTIVAL – Collet de Sant Antoni- \nProhibides\, peludes i oblidades: de dones i vins\nUs convidem a reviure una història oblidada amb un tast especial: explorarem l’origen de molts prejudicis (encara ben presents) envers les dones i el vi\, i reivindicarem el paper femení en el nostre patrimoni.\nAmb Romina Ribera com a guia\, tastarem 4 vins en clau històrica per descobrir el moment en què les dones van recuperar la paraula… i la copa! \n📍 Lloc: El Collet\, Calonge📅 Data: Divendres 15 d’agost de 2025🕗 Hora d’inici: 20:00 h \n🎟️ Entrades disponibles aquí:👉 https://www.entrapolis.com/entrades/prohibides-peludes-i-oblidades-dones-i-vins \n✨ Una proposta dins el festival més gastronòmic de l’estiu a l’Empordà! No t’ho perdis!
URL:https://glopsdhistoria.com/activitat/prohibides-peludes-i-oblidades/
LOCATION:Collet de Sant Antoni\, Carrer del Monestir\, 2 17251 Calonge\, Girona\, Girona\, Spain
ATTACH;FMTTYPE=image/jpeg:https://glopsdhistoria.com/wp-content/uploads/2025/08/H2S5467-2-scaled-e1754057089900.jpg
END:VEVENT
BEGIN:VEVENT
DTSTART;TZID=Europe/Madrid:20250816T193000
DTEND;TZID=Europe/Madrid:20250816T213000
DTSTAMP:20260423T083318
CREATED:20250604T165041Z
LAST-MODIFIED:20250604T165845Z
UID:10000195-1755372600-1755379800@glopsdhistoria.com
SUMMARY:Bibendum. Capvespres de vi a Empúries
DESCRIPTION:Capvespres amb sabor antic al Jaciment d’Empúries. Un viatge al temps que grecs i romans\, grans amants del vi\, el van beure entre les seves parets. \nSota la conducció de dues guies expertes en història i vi \, descobrireu Empúries i els seus racons a la posta de sol\, us acostareu a la cultura clàssica amb fragments de textos antics\, i tastareu vins entre àmfores i olors de varietats ancestrals.\nEl Museu d’arqueologia d’Empúries \, Glops d’història i Empordà Caterva \, s’uneixen de nou per oferir-vos una de les grans activitats de l’estiu. \nDissabtes de Juliol \, Agost i Setembre \n*Durada aproximada de l’activitat 1.30 hores\n*Aquesta activitat s’adreça al públic adult\, el contingut no està adaptat específicament per als menors.\n*L’organització pot suspendre alguna de les activitats programades en cas de mal temps \nPreu: 25 €\nCompra entrades: https://macempuries.koobin.cat/index.php?action=PU_evento&Ev_id=121 \nLLOC: https://maps.app.goo.gl/Dz8LjwUzbfEKodMq7
URL:https://glopsdhistoria.com/activitat/bibendum-capvespres-de-vi-a-empuries-2/2025-08-16/
LOCATION:MAC Empuries\, Carrer Museu\, 27\, L'Escala\, Girona\, 17130\, Espanya
ATTACH;FMTTYPE=image/jpeg:https://glopsdhistoria.com/wp-content/uploads/2024/07/Empuries-3-scaled.jpg
END:VEVENT
BEGIN:VEVENT
DTSTART;TZID=Europe/Madrid:20250822T200000
DTEND;TZID=Europe/Madrid:20250822T210000
DTSTAMP:20260423T083318
CREATED:20250801T072117Z
LAST-MODIFIED:20250801T072117Z
UID:10000230-1755892800-1755896400@glopsdhistoria.com
SUMMARY:Sense vi no hi ha revolució
DESCRIPTION:Sense vi no hi ha revolució: Un tast de gran vins de cooperativa al cor del barri obrer de Sant Narcís\nVi\, cooperativisme i memòria. Un tast de vins de cooperativa que traça paral·lelismes entre dues arquitectures de resistència: les “catedrals del vi”\, símbol del cooperativisme agrícola català de principis del segle XX\, i el barri de Sant Narcís\, construït sota règim franquista i convertit\, amb el temps\, en símbol de comunitat\, dignitat i vida obrera. \n📅 Dia: 22 d’agost🕗 Hora: 20 h📍 Lloc: Plaça de l’Assumpció (Girona) \n🎯 Activitat gratuïta amb places limitades🔗 Reserva imprescindible a través de la web de l’Ajuntament de Girona:👉 https://www.girona.cat/agenda/inscripcions/index.php?id=343891&ta=age \n👥 Organitza: Àrea de Promoció Econòmica de l’Ajuntament de Girona
URL:https://glopsdhistoria.com/activitat/sense-vi-no-hi-ha-revolucio/
LOCATION:Plaça de l’Assumpció 17005 Girona\, Espanya\, Plaça de l'Assumpció\, Girona\, 17005\, Spain
ATTACH;FMTTYPE=image/jpeg:https://glopsdhistoria.com/wp-content/uploads/2025/08/barri_sant_narcis_sep_15.jpg
END:VEVENT
BEGIN:VEVENT
DTSTART;TZID=Europe/Madrid:20250823T190000
DTEND;TZID=Europe/Madrid:20250823T210000
DTSTAMP:20260423T083318
CREATED:20250604T165041Z
LAST-MODIFIED:20250604T165845Z
UID:10000196-1755975600-1755982800@glopsdhistoria.com
SUMMARY:Bibendum. Capvespres de vi a Empúries
DESCRIPTION:Capvespres amb sabor antic al Jaciment d’Empúries. Un viatge al temps que grecs i romans\, grans amants del vi\, el van beure entre les seves parets. \nSota la conducció de dues guies expertes en història i vi \, descobrireu Empúries i els seus racons a la posta de sol\, us acostareu a la cultura clàssica amb fragments de textos antics\, i tastareu vins entre àmfores i olors de varietats ancestrals.\nEl Museu d’arqueologia d’Empúries \, Glops d’història i Empordà Caterva \, s’uneixen de nou per oferir-vos una de les grans activitats de l’estiu. \nDissabtes de Juliol \, Agost i Setembre \n*Durada aproximada de l’activitat 1.30 hores\n*Aquesta activitat s’adreça al públic adult\, el contingut no està adaptat específicament per als menors.\n*L’organització pot suspendre alguna de les activitats programades en cas de mal temps \nPreu: 25 €\nCompra entrades: https://macempuries.koobin.cat/index.php?action=PU_evento&Ev_id=121 \nLLOC: https://maps.app.goo.gl/Dz8LjwUzbfEKodMq7
URL:https://glopsdhistoria.com/activitat/bibendum-capvespres-de-vi-a-empuries-2/2025-08-23/
LOCATION:MAC Empuries\, Carrer Museu\, 27\, L'Escala\, Girona\, 17130\, Espanya
ATTACH;FMTTYPE=image/jpeg:https://glopsdhistoria.com/wp-content/uploads/2024/07/Empuries-3-scaled.jpg
END:VEVENT
BEGIN:VEVENT
DTSTART;TZID=Europe/Madrid:20250828T183000
DTEND;TZID=Europe/Madrid:20250828T203000
DTSTAMP:20260423T083318
CREATED:20250604T172125Z
LAST-MODIFIED:20250902T161653Z
UID:10000213-1756405800-1756413000@glopsdhistoria.com
SUMMARY:Una mar de vins
DESCRIPTION:Embarca’t amb Glops d’història i Mare Nostrum per tastar la connexió ancestral entre els vins i el mar. \nA bord tastarem vins fets d’antigues varietats mediterrànies. Aprendrem que fins fa pocs anys els pescadors de l’Escala eren tots vinyaters i brindarem a la posta de sol davant el jaciment de les ruïnes d’Empúries. \nHistòries de vinya i de mar els dijous al capvespre amb sortida des del port de l’Escala. \nMolt poques dates i aforament limitat \n14 d’agost – 19.00h \n28 d’agost – 18.30h \n11 de setembre 18.30h \nL’activitat inlou: \n\n2 hores de navegació\nTast de 3 vins sel·leccionats de la DO Empordà\nGuiatge i tast comentat per part de Romina Ribera\, arqueòloga especialista en vins\n\n  \nPreu 35€ / persona\nLloc: Sortides des del Port de l’Escala \nReserves\nCreuers Mare Nostrum: https://creuers-marenostrum.com/es/excursiones-y-reserva/un-mar-de-vinos.html\ntelèfon 972 77 37 97
URL:https://glopsdhistoria.com/activitat/una-mar-de-vins-2/2025-08-28/
LOCATION:Creuers Mare Nostrum\, Carrer port de la Clota\, s/n\, L'Escala\, Girona\, 17130
ATTACH;FMTTYPE=image/webp:https://glopsdhistoria.com/wp-content/uploads/2024/06/cap-calendari.webp
END:VEVENT
BEGIN:VEVENT
DTSTART;TZID=Europe/Madrid:20250829T190000
DTEND;TZID=Europe/Madrid:20250829T201500
DTSTAMP:20260423T083318
CREATED:20250818T095445Z
LAST-MODIFIED:20250818T101825Z
UID:10000236-1756494000-1756498500@glopsdhistoria.com
SUMMARY:Vi a la carbonera: històries subterrànies al FITAG
DESCRIPTION:Exhaurides\nVi a la carbonera: històries subterrànies al FITAG\nDescobreix la història secreta de la Carbonera —antic cor líquid del convent dels Caputxins— mentre degustes vins del territori amb un relat que et farà viatjar en el temps. Activitat guiada per Romina Ribera\, arqueòloga i sommelier de Glops d’història. \nUn tast únic al cor subterrani de Girona! Dins el programa d’Activitats paral·leles del FITAG 2025 \nLloc: La Cisterna (la Carbonera de Girona) – Museu d’història de Girona \nDia: 29 d’agost\nHorari:  19h00-20h15 \nReserves: Exhaurides! \n 
URL:https://glopsdhistoria.com/activitat/vi-a-la-carbonera-histories-subterranies-al-fitag/
LOCATION:La Carbonera\, Pujada de Sant Feliu\,2\, Girona\, Girona\, 17004\, Spain
ATTACH;FMTTYPE=image/jpeg:https://glopsdhistoria.com/wp-content/uploads/2025/08/defenses_cisternab.jpg
END:VEVENT
BEGIN:VEVENT
DTSTART;TZID=Europe/Madrid:20250830T190000
DTEND;TZID=Europe/Madrid:20250830T210000
DTSTAMP:20260423T083318
CREATED:20250604T165041Z
LAST-MODIFIED:20250604T165845Z
UID:10000197-1756580400-1756587600@glopsdhistoria.com
SUMMARY:Bibendum. Capvespres de vi a Empúries
DESCRIPTION:Capvespres amb sabor antic al Jaciment d’Empúries. Un viatge al temps que grecs i romans\, grans amants del vi\, el van beure entre les seves parets. \nSota la conducció de dues guies expertes en història i vi \, descobrireu Empúries i els seus racons a la posta de sol\, us acostareu a la cultura clàssica amb fragments de textos antics\, i tastareu vins entre àmfores i olors de varietats ancestrals.\nEl Museu d’arqueologia d’Empúries \, Glops d’història i Empordà Caterva \, s’uneixen de nou per oferir-vos una de les grans activitats de l’estiu. \nDissabtes de Juliol \, Agost i Setembre \n*Durada aproximada de l’activitat 1.30 hores\n*Aquesta activitat s’adreça al públic adult\, el contingut no està adaptat específicament per als menors.\n*L’organització pot suspendre alguna de les activitats programades en cas de mal temps \nPreu: 25 €\nCompra entrades: https://macempuries.koobin.cat/index.php?action=PU_evento&Ev_id=121 \nLLOC: https://maps.app.goo.gl/Dz8LjwUzbfEKodMq7
URL:https://glopsdhistoria.com/activitat/bibendum-capvespres-de-vi-a-empuries-2/2025-08-30/
LOCATION:MAC Empuries\, Carrer Museu\, 27\, L'Escala\, Girona\, 17130\, Espanya
ATTACH;FMTTYPE=image/jpeg:https://glopsdhistoria.com/wp-content/uploads/2024/07/Empuries-3-scaled.jpg
END:VEVENT
END:VCALENDAR