BEGIN:VCALENDAR
VERSION:2.0
PRODID:-//Glops d&#039;Història - ECPv6.15.12.2//NONSGML v1.0//EN
CALSCALE:GREGORIAN
METHOD:PUBLISH
X-WR-CALNAME:Glops d&#039;Història
X-ORIGINAL-URL:https://glopsdhistoria.com
X-WR-CALDESC:Esdeveniments per Glops d&#039;Història
REFRESH-INTERVAL;VALUE=DURATION:PT1H
X-Robots-Tag:noindex
X-PUBLISHED-TTL:PT1H
BEGIN:VTIMEZONE
TZID:Europe/Madrid
BEGIN:DAYLIGHT
TZOFFSETFROM:+0100
TZOFFSETTO:+0200
TZNAME:CEST
DTSTART:20250330T010000
END:DAYLIGHT
BEGIN:STANDARD
TZOFFSETFROM:+0200
TZOFFSETTO:+0100
TZNAME:CET
DTSTART:20251026T010000
END:STANDARD
BEGIN:DAYLIGHT
TZOFFSETFROM:+0100
TZOFFSETTO:+0200
TZNAME:CEST
DTSTART:20260329T010000
END:DAYLIGHT
BEGIN:STANDARD
TZOFFSETFROM:+0200
TZOFFSETTO:+0100
TZNAME:CET
DTSTART:20261025T010000
END:STANDARD
BEGIN:DAYLIGHT
TZOFFSETFROM:+0100
TZOFFSETTO:+0200
TZNAME:CEST
DTSTART:20270328T010000
END:DAYLIGHT
BEGIN:STANDARD
TZOFFSETFROM:+0200
TZOFFSETTO:+0100
TZNAME:CET
DTSTART:20271031T010000
END:STANDARD
END:VTIMEZONE
BEGIN:VEVENT
DTSTART;TZID=Europe/Madrid:20260205T193000
DTEND;TZID=Europe/Madrid:20260205T210000
DTSTAMP:20260422T183802
CREATED:20260118T125653Z
LAST-MODIFIED:20260118T125653Z
UID:10000307-1770319800-1770325200@glopsdhistoria.com
SUMMARY:Cicle de Tasts “Històries Víniques”
DESCRIPTION: Històries víniques\nels tastos temàtics amb Glops d’història\nCicle de tastos històrics a l’Aula de Tast del Foment de Girona\nUn curs d’experiències enogastronòmiques conduïdes per Glops d’Història\, que combina patrimoni\, narració i cultura del vi a través de tastos singulars i suggerents amb producte de proximitat.\n  \nEl Vi natural: fe\, heretgia\, rebel·lió o moda?\nDijous 5/02/2026 a les 19.30 h \nCarnestoltes és el moment de capgirar-ho tot i trencar normes abans del temps de penitencia. Aquest tast planteja el vi natural com a fenomen històric i cultural: transgressió\, retorn als orígens o nova ortodòxia? \nUn recorregut crític per intentar entendre què és —i què no és— el vi natural\, com neix el relat i per què divideix tant. \n*5 vins i petit maridatge \nLa dictadura del gust: Qui decideix què és un bon vi? \nDijous 19/02/2026 a les 19.30 h \nGuies\, punts\, premis i medalles. Aquest tast qüestiona els mecanismes que construeixen el prestigi del vi contemporani. \nQui hi ha darrere de les guies? Què mesuren realment els premis? I què queda fora del relat oficial del “bon gust”?\nUna mirada històrica i crítica sobre com es construeix el cànon del vi internacional i català. \n*5 vins i petit maridatge \nPeludes\, prohibides i oblidades: Un tast especial pel Dia de la Dona \nDijous 05/03/2026 a les 19.30 h \nUs convidem a reviure una història deliberadament oblidada amb un tast que posa el dit a la nafra. Explorarem l’origen de molts dels prejudicis —encara ben vius— envers les dones i el vi\, i reivindicarem el paper femení en la construcció del nostre patrimoni vitivinícola. \nEn un mes carregat de simbolisme en clau femenina\, tastarem cinc vins de varietats autòctones llegides des de la història\, per identificar el moment en què les dones —i algunes varietats catalanes— van recuperar la veu… i la copa. \n*5 vins i petit maridatge \nEn nom del pare: Les grans nissagues del vi català \nDijous 19/03/2026 a les 19.30 h \nAmb motiu del Dia del Pare\, proposem un recorregut per les grans famílies del vi català: cellers\, cognoms i vins icònics que han marcat un abans i un després en la història de vi de casa nostra\n Un tast per parlar d’herències i relleus generacionals: “Secrets de família” i “Nissagues de poder” dins la copa. \n*5 vins i petit maridatge
URL:https://glopsdhistoria.com/activitat/cicle-de-tasts-histories-viniques-2-2/
LOCATION:El tastet – el Foment-\, Carrer dels Mercaders\, 8 - 10\,\, Girona\, 17004\, Spain
ATTACH;FMTTYPE=image/webp:https://glopsdhistoria.com/wp-content/uploads/2024/06/glops-scaled.webp
END:VEVENT
BEGIN:VEVENT
DTSTART;TZID=Europe/Madrid:20260208T110000
DTEND;TZID=Europe/Madrid:20260208T140000
DTSTAMP:20260422T183802
CREATED:20251127T172647Z
LAST-MODIFIED:20251202T093355Z
UID:10000304-1770548400-1770559200@glopsdhistoria.com
SUMMARY:VINYA\, GUERRA I TERRA
DESCRIPTION:Una ruta de vi\, paisatge i memòria pels camins de Portbou\nEt proposem una caminada amb gust de frontera\, paraula i resistència. Amb copa a la mà i la història als peus\, descobrirem els búnquers tot trepitjant els camins de l’exili\, envoltats de  vinyes que també han estat trinxera i refugi.\n\n A cada parada\, un tast: 4 vins que mariden amb el territori i amb el relat que s’hi amaga.\nUna experiència per llegir Portbou a través del paisatge i del vi que l’expliquen. \nL’itinerari serà conduït per Romina Ribera\, arqueòloga i sommelier de Glops d’Història\, i per Gina Strohecker\, impulsora de la marxa Camins de l’Exili. \n  \n✔ Informació de l’activitat\nPreu: 24 € \nInclou tast de 4 vins\, guiatge i assegurança.\nOrganitzen: Grup Excursionista de Portbou i Glops d’Història\nEn el marc de: Jornada Camins de l’Exili \n📍 Punt de trobada\nCaseta de Turisme de Portbou \nDia: 8 de Febrer \nHora d’inici: 11.00 h\nDurada màxima: 2 h 30 min\n \n🥾 Ruta\nTipus: Itinerari circular de 5 km\nDesnivell acumulat: 210 m\nDificultat: Mitjana-baixa \n🧭 Recomanacions\n– Calçat adequat per caminar\n– Roba còmoda i adaptada al temps\n– Aigua
URL:https://glopsdhistoria.com/activitat/vinya-guerra-i-terra/
LOCATION:Caseta de Turisme de Portbou\, Carrer de l'Alcalde Miquel Cabré\, 1\, Portbou\, 17497\, Spain
ATTACH;FMTTYPE=image/jpeg:https://glopsdhistoria.com/wp-content/uploads/2025/11/IMG_1756-1-scaled.jpg
END:VEVENT
BEGIN:VEVENT
DTSTART;TZID=Europe/Madrid:20260219T193000
DTEND;TZID=Europe/Madrid:20260219T210000
DTSTAMP:20260422T183802
CREATED:20260118T125418Z
LAST-MODIFIED:20260118T125418Z
UID:10000308-1771529400-1771534800@glopsdhistoria.com
SUMMARY:Cicle de Tasts “Històries Víniques”
DESCRIPTION: Històries víniques\nels tastos temàtics amb Glops d’història\nCicle de tastos històrics a l’Aula de Tast del Foment de Girona\nUn curs d’experiències enogastronòmiques conduïdes per Glops d’Història\, que combina patrimoni\, narració i cultura del vi a través de tastos singulars i suggerents amb producte de proximitat.\n  \nEl Vi natural: fe\, heretgia\, rebel·lió o moda?\nDijous 5/02/2026 a les 19.30 h \nCarnestoltes és el moment de capgirar-ho tot i trencar normes abans del temps de penitencia. Aquest tast planteja el vi natural com a fenomen històric i cultural: transgressió\, retorn als orígens o nova ortodòxia? \nUn recorregut crític per intentar entendre què és —i què no és— el vi natural\, com neix el relat i per què divideix tant. \n*5 vins i petit maridatge \nLa dictadura del gust: Qui decideix què és un bon vi? \nDijous 19/02/2026 a les 19.30 h \nGuies\, punts\, premis i medalles. Aquest tast qüestiona els mecanismes que construeixen el prestigi del vi contemporani. \nQui hi ha darrere de les guies? Què mesuren realment els premis? I què queda fora del relat oficial del “bon gust”?\nUna mirada històrica i crítica sobre com es construeix el cànon del vi internacional i català. \n*5 vins i petit maridatge \nPeludes\, prohibides i oblidades: Un tast especial pel Dia de la Dona \nDijous 05/03/2026 a les 19.30 h \nUs convidem a reviure una història deliberadament oblidada amb un tast que posa el dit a la nafra. Explorarem l’origen de molts dels prejudicis —encara ben vius— envers les dones i el vi\, i reivindicarem el paper femení en la construcció del nostre patrimoni vitivinícola. \nEn un mes carregat de simbolisme en clau femenina\, tastarem cinc vins de varietats autòctones llegides des de la història\, per identificar el moment en què les dones —i algunes varietats catalanes— van recuperar la veu… i la copa. \n*5 vins i petit maridatge \nEn nom del pare: Les grans nissagues del vi català \nDijous 19/03/2026 a les 19.30 h \nAmb motiu del Dia del Pare\, proposem un recorregut per les grans famílies del vi català: cellers\, cognoms i vins icònics que han marcat un abans i un després en la història de vi de casa nostra\n Un tast per parlar d’herències i relleus generacionals: “Secrets de família” i “Nissagues de poder” dins la copa. \n*5 vins i petit maridatge
URL:https://glopsdhistoria.com/activitat/cicle-de-tasts-histories-viniques-2/2026-02-19/
LOCATION:El tastet – el Foment-\, Carrer dels Mercaders\, 8 - 10\,\, Girona\, 17004\, Spain
ATTACH;FMTTYPE=image/webp:https://glopsdhistoria.com/wp-content/uploads/2024/06/glops-scaled.webp
END:VEVENT
BEGIN:VEVENT
DTSTART;TZID=Europe/Madrid:20260222T110000
DTEND;TZID=Europe/Madrid:20260222T133000
DTSTAMP:20260422T183802
CREATED:20260127T125133Z
LAST-MODIFIED:20260226T182313Z
UID:10000312-1771758000-1771767000@glopsdhistoria.com
SUMMARY:Heretgies\, estances secretes i santes relíquies: 400 anys d’història i vi a Can Trobat
DESCRIPTION:Heretgies\, estances secretes i santes relíquies: 400 anys d’història i vi a Can Trobat\n🏺 Et convidem a descobrir els secrets d’un mas empordanès aturat en el temps. Una visita amb tast de vins en una casa celler amb 400 anys d’història: Inquisidors\, guerres\, amor i resistència\, capelles ocultes i santes relíquies.  \n🏺 Guiats pels hereus de Can Trobat i  Romina Ribera (arqueòloga i sommelier de Glops d’història)\, explorarem salons\, capelles amagades i cellers antics\, copa en mà\, per reviure 400 anys de secrets i vi. \n✨ Un final amb brindis i vistes a l’Albera  \nL’activitat inclou l’entrada i la visita guiada amb tast de 4 vins comentats al llarg del recorregut \n🎫 Activitat exclusiva per a 30 persones. Reserva la teva plaça ! \n  \n🗓Diumenge 22 de febrer  \n🕚  De 11:00 a 13:30 h (aprox.) \n📍 Can Trobat ( Garriguella – Alt Empordà) \n 
URL:https://glopsdhistoria.com/activitat/heretgies-estances-secretes-i-santes-reliquies-400-anys-dhistoria-i-vi-a-can-trobat/
LOCATION:Can Trobat\, Carrer de Castelló\, 8\,\, Garriguella\, 17780\, Spain
ATTACH;FMTTYPE=image/jpeg:https://glopsdhistoria.com/wp-content/uploads/2026/01/can-trobat-2-vertical-e1769518491332.jpg
END:VEVENT
END:VCALENDAR