BEGIN:VCALENDAR
VERSION:2.0
PRODID:-//Glops d&#039;Història - ECPv6.15.12.2//NONSGML v1.0//EN
CALSCALE:GREGORIAN
METHOD:PUBLISH
X-ORIGINAL-URL:https://glopsdhistoria.com
X-WR-CALDESC:Esdeveniments per Glops d&#039;Història
REFRESH-INTERVAL;VALUE=DURATION:PT1H
X-Robots-Tag:noindex
X-PUBLISHED-TTL:PT1H
BEGIN:VTIMEZONE
TZID:Europe/Madrid
BEGIN:DAYLIGHT
TZOFFSETFROM:+0100
TZOFFSETTO:+0200
TZNAME:CEST
DTSTART:20250330T010000
END:DAYLIGHT
BEGIN:STANDARD
TZOFFSETFROM:+0200
TZOFFSETTO:+0100
TZNAME:CET
DTSTART:20251026T010000
END:STANDARD
BEGIN:DAYLIGHT
TZOFFSETFROM:+0100
TZOFFSETTO:+0200
TZNAME:CEST
DTSTART:20260329T010000
END:DAYLIGHT
BEGIN:STANDARD
TZOFFSETFROM:+0200
TZOFFSETTO:+0100
TZNAME:CET
DTSTART:20261025T010000
END:STANDARD
BEGIN:DAYLIGHT
TZOFFSETFROM:+0100
TZOFFSETTO:+0200
TZNAME:CEST
DTSTART:20270328T010000
END:DAYLIGHT
BEGIN:STANDARD
TZOFFSETFROM:+0200
TZOFFSETTO:+0100
TZNAME:CET
DTSTART:20271031T010000
END:STANDARD
END:VTIMEZONE
BEGIN:VEVENT
DTSTART;TZID=Europe/Madrid:20260910T180000
DTEND;TZID=Europe/Madrid:20260910T200000
DTSTAMP:20260422T235511
CREATED:20260402T073611Z
LAST-MODIFIED:20260402T095425Z
UID:10000335-1789063200-1789070400@glopsdhistoria.com
SUMMARY:Verema d’art: tasta la Catedral i el Museu d'art de Girona
DESCRIPTION:PRÒXIMAMENT ENTRADES A LA VENDA!\nVerema d’art: un tast de vins per la Girona Episcopal – Catedral i Museu d’Art de Girona-\nDesprés de l’excel·lent acollida de l’edició passada\, que va exhaurir totes les sessions amb molta antelació\, aquest estiu la Catedral de Girona i el Museu d’Art tornen a obrir-vos les portes al capvespre per oferir una experiència singular: un tast de vins a porta tancada\, fora de l’horari habitual de visita. \nUna proposta per descobrir dos dels espais més emblemàtics de la ciutat a través del fil conductor del vi. \nGuiats per l’arqueòloga i sommelier Romina Ribera (Glops d’Història)\, recorrerem indrets carregats de significat —des del pati del Museu fins al claustre de la Catedral—\, travessant sales\, passadissos i accessos que habitualment no són oberts al públic. \nEls vins tastats\, seleccionats pel seu vincle amb la història i l’entorn\, ens ajudaran a llegir el patrimoni des d’una mirada nova\, pausada i plena de matisos. \nUna experiència íntima i acurada per endinsar-se en la Girona episcopal al capvespre\, copa en mà. \nDates i horaris \nDijous 25 de juny\, 9 i 30 de juliol🕚 19.00 h – 21.00 h \nDijous 13 d’agost🕚 18.30 h – 20.30 h \nDijous 27 d’agost🕚 18.15 h – 20.15 h \nDijous 10 de setembre🕚 18.00 h – 20.00 h \n📍Museu d’Art de Girona \nL’entrada inclou: \n\nAccès a porta tancada a la Catedral i el Museu D’art\nGuia especialitzada\nEl tast guiat de 3 vins singulars\, de producció limitada\, escollits per a l’ocasió.\n\nPlaces molt limitades. Reserva prèvia imprescindible \n 
URL:https://glopsdhistoria.com/activitat/verema-dart-tasta-la-catedral-i-el-museu-dart-de-girona/2026-09-10/
LOCATION:Catedral de Girona\, Pujada de la Catedral\, 12\, Girona\, 17004\, Spain
ATTACH;FMTTYPE=image/jpeg:https://glopsdhistoria.com/wp-content/uploads/2025/06/CPALACIOB-090923-012_Patronat-1-e1749053512579.jpg
END:VEVENT
END:VCALENDAR